BEGIN:VCALENDAR
VERSION:2.0
PRODID:-//Orpheum Website - ECPv6.15.17.1//NONSGML v1.0//EN
CALSCALE:GREGORIAN
METHOD:PUBLISH
X-WR-CALNAME:Orpheum Website
X-ORIGINAL-URL:https://www.galesburgorpheum.org
X-WR-CALDESC:Events for Orpheum Website
REFRESH-INTERVAL;VALUE=DURATION:PT1H
X-Robots-Tag:noindex
X-PUBLISHED-TTL:PT1H
BEGIN:VTIMEZONE
TZID:UTC
BEGIN:STANDARD
TZOFFSETFROM:+0000
TZOFFSETTO:+0000
TZNAME:UTC
DTSTART:20250101T000000
END:STANDARD
END:VTIMEZONE
BEGIN:VEVENT
DTSTART;VALUE=DATE:20260516
DTEND;VALUE=DATE:20260517
DTSTAMP:20260419T185533
CREATED:20240420T155008Z
LAST-MODIFIED:20260401T222608Z
UID:2690-1778889600-1778975999@www.galesburgorpheum.org
SUMMARY:A Wicked Evening with Louise Dearman
DESCRIPTION:7:30pm | Orpheum Theatre Presents \nSponsored by Midwest Green Energy \nLouise Dearman is a prominent British actress and singer known for her extensive career in West End musicals and concerts and of course her turns as both Glinda and Elphaba in the musical WICKED!
URL:https://www.galesburgorpheum.org/event/a-wicked-evening-with-louise-dearman/
ATTACH;FMTTYPE=image/png:https://www.galesburgorpheum.org/wp-content/uploads/2024/04/Louise-Dearman-Socials.png
END:VEVENT
END:VCALENDAR