BEGIN:VCALENDAR
VERSION:2.0
PRODID:-//Orpheum Website - ECPv6.15.17.1//NONSGML v1.0//EN
CALSCALE:GREGORIAN
METHOD:PUBLISH
X-WR-CALNAME:Orpheum Website
X-ORIGINAL-URL:https://www.galesburgorpheum.org
X-WR-CALDESC:Events for Orpheum Website
REFRESH-INTERVAL;VALUE=DURATION:PT1H
X-Robots-Tag:noindex
X-PUBLISHED-TTL:PT1H
BEGIN:VTIMEZONE
TZID:UTC
BEGIN:STANDARD
TZOFFSETFROM:+0000
TZOFFSETTO:+0000
TZNAME:UTC
DTSTART:20250101T000000
END:STANDARD
END:VTIMEZONE
BEGIN:VEVENT
DTSTART;VALUE=DATE:20260509
DTEND;VALUE=DATE:20260510
DTSTAMP:20260419T121554
CREATED:20240430T203058Z
LAST-MODIFIED:20260416T204636Z
UID:3154-1778284800-1778371199@www.galesburgorpheum.org
SUMMARY:Knox-Rootabaga Jazz Festival (Day 5 of 5)
DESCRIPTION:6:30 PM Presented by The Knox College Music Department \nA fun evening of jazz
URL:https://www.galesburgorpheum.org/event/knox-rootabaga-jazz-festival/
ATTACH;FMTTYPE=image/png:https://www.galesburgorpheum.org/wp-content/uploads/2024/04/2-10.png
END:VEVENT
END:VCALENDAR