BEGIN:VCALENDAR
VERSION:2.0
PRODID:-//Orpheum Website - ECPv6.15.17.1//NONSGML v1.0//EN
CALSCALE:GREGORIAN
METHOD:PUBLISH
X-WR-CALNAME:Orpheum Website
X-ORIGINAL-URL:https://www.galesburgorpheum.org
X-WR-CALDESC:Events for Orpheum Website
REFRESH-INTERVAL;VALUE=DURATION:PT1H
X-Robots-Tag:noindex
X-PUBLISHED-TTL:PT1H
BEGIN:VTIMEZONE
TZID:UTC
BEGIN:STANDARD
TZOFFSETFROM:+0000
TZOFFSETTO:+0000
TZNAME:UTC
DTSTART:20250101T000000
END:STANDARD
END:VTIMEZONE
BEGIN:VEVENT
DTSTART;VALUE=DATE:20260501
DTEND;VALUE=DATE:20260504
DTSTAMP:20260419T145203
CREATED:20240501T220308Z
LAST-MODIFIED:20260412T031354Z
UID:3142-1777593600-1777852799@www.galesburgorpheum.org
SUMMARY:PAAG Bye Bye Birdie Young Performer's Edition
DESCRIPTION:7:00pm & 2:00pm | Presented by The Performing Arts Academy of Galesburg \nA loving musical of the early 1960s\, small-town America\, teenagers\, and rock and roll
URL:https://www.galesburgorpheum.org/event/paag-bye-bye-birdie-young-performers-edition/
ATTACH;FMTTYPE=image/png:https://www.galesburgorpheum.org/wp-content/uploads/2026/04/PAAG-Socials.png
END:VEVENT
END:VCALENDAR