BEGIN:VCALENDAR
VERSION:2.0
PRODID:-//Orpheum Website - ECPv6.15.17.1//NONSGML v1.0//EN
CALSCALE:GREGORIAN
METHOD:PUBLISH
X-WR-CALNAME:Orpheum Website
X-ORIGINAL-URL:https://www.galesburgorpheum.org
X-WR-CALDESC:Events for Orpheum Website
REFRESH-INTERVAL;VALUE=DURATION:PT1H
X-Robots-Tag:noindex
X-PUBLISHED-TTL:PT1H
BEGIN:VTIMEZONE
TZID:UTC
BEGIN:STANDARD
TZOFFSETFROM:+0000
TZOFFSETTO:+0000
TZNAME:UTC
DTSTART:20250101T000000
END:STANDARD
END:VTIMEZONE
BEGIN:VEVENT
DTSTART;VALUE=DATE:20260529
DTEND;VALUE=DATE:20260601
DTSTAMP:20260424T110611
CREATED:20240408T162509Z
LAST-MODIFIED:20260421T174548Z
UID:3237-1780012800-1780271999@www.galesburgorpheum.org
SUMMARY:Raising Spirits with Song
DESCRIPTION:7:00pm & 2:00pm | Presented by Choral Dynamics \n50th Anniversary performance to Benefit Children’s Grief Camp of Galesburg
URL:https://www.galesburgorpheum.org/event/raising-spirits-with-song/
ATTACH;FMTTYPE=image/jpeg:https://www.galesburgorpheum.org/wp-content/uploads/2026/04/choral-dynamics-web-fb-event.jpg
END:VEVENT
END:VCALENDAR