BEGIN:VCALENDAR
VERSION:2.0
PRODID:-//Orpheum Website - ECPv6.15.17.1//NONSGML v1.0//EN
CALSCALE:GREGORIAN
METHOD:PUBLISH
X-WR-CALNAME:Orpheum Website
X-ORIGINAL-URL:https://www.galesburgorpheum.org
X-WR-CALDESC:Events for Orpheum Website
REFRESH-INTERVAL;VALUE=DURATION:PT1H
X-Robots-Tag:noindex
X-PUBLISHED-TTL:PT1H
BEGIN:VTIMEZONE
TZID:UTC
BEGIN:STANDARD
TZOFFSETFROM:+0000
TZOFFSETTO:+0000
TZNAME:UTC
DTSTART:20250101T000000
END:STANDARD
END:VTIMEZONE
BEGIN:VEVENT
DTSTART;VALUE=DATE:20260517
DTEND;VALUE=DATE:20260518
DTSTAMP:20260419T122910
CREATED:20240416T200311Z
LAST-MODIFIED:20260416T200926Z
UID:3148-1778976000-1779062399@www.galesburgorpheum.org
SUMMARY:Second Mortgage and The Sofa Kings
DESCRIPTION:2:00pm | Orpheum Theatre Fundraiser \n40 year reunion concert to benefit the Orpheum
URL:https://www.galesburgorpheum.org/event/second-mortgage/
ATTACH;FMTTYPE=image/png:https://www.galesburgorpheum.org/wp-content/uploads/2024/04/Second-Mortgage-and-Sofa-King-Socials.png
END:VEVENT
END:VCALENDAR