BEGIN:VCALENDAR
VERSION:2.0
PRODID:-//Orpheum Website - ECPv6.15.17.1//NONSGML v1.0//EN
CALSCALE:GREGORIAN
METHOD:PUBLISH
X-ORIGINAL-URL:https://www.galesburgorpheum.org
X-WR-CALDESC:Events for Orpheum Website
REFRESH-INTERVAL;VALUE=DURATION:PT1H
X-Robots-Tag:noindex
X-PUBLISHED-TTL:PT1H
BEGIN:VTIMEZONE
TZID:UTC
BEGIN:STANDARD
TZOFFSETFROM:+0000
TZOFFSETTO:+0000
TZNAME:UTC
DTSTART:20250101T000000
END:STANDARD
END:VTIMEZONE
BEGIN:VEVENT
DTSTART;VALUE=DATE:20260822
DTEND;VALUE=DATE:20260823
DTSTAMP:20260420T020736
CREATED:20231203T191002Z
LAST-MODIFIED:20260408T191806Z
UID:3138-1787356800-1787443199@www.galesburgorpheum.org
SUMMARY:Tom Briscoe: Old Mansplaining
DESCRIPTION:7:30pm | Orpheum Theatre Presents \nA side-splitting comedy act starring Tom Briscoe!
URL:https://www.galesburgorpheum.org/event/tom-briscoe-old-mansplaining/
ATTACH;FMTTYPE=image/png:https://www.galesburgorpheum.org/wp-content/uploads/2026/04/Tom-Briscoe-Socials.png
END:VEVENT
END:VCALENDAR